BEGIN:VCALENDAR
VERSION:2.0
PRODID:-//CUPW Local 630 - ECPv6.15.20//NONSGML v1.0//EN
CALSCALE:GREGORIAN
METHOD:PUBLISH
X-ORIGINAL-URL:https://cupw-windsor.org
X-WR-CALDESC:Events for CUPW Local 630
REFRESH-INTERVAL;VALUE=DURATION:PT1H
X-Robots-Tag:noindex
X-PUBLISHED-TTL:PT1H
BEGIN:VTIMEZONE
TZID:America/Detroit
BEGIN:DAYLIGHT
TZOFFSETFROM:-0500
TZOFFSETTO:-0400
TZNAME:EDT
DTSTART:20160313T070000
END:DAYLIGHT
BEGIN:STANDARD
TZOFFSETFROM:-0400
TZOFFSETTO:-0500
TZNAME:EST
DTSTART:20161106T060000
END:STANDARD
BEGIN:DAYLIGHT
TZOFFSETFROM:-0500
TZOFFSETTO:-0400
TZNAME:EDT
DTSTART:20170312T070000
END:DAYLIGHT
BEGIN:STANDARD
TZOFFSETFROM:-0400
TZOFFSETTO:-0500
TZNAME:EST
DTSTART:20171105T060000
END:STANDARD
BEGIN:DAYLIGHT
TZOFFSETFROM:-0500
TZOFFSETTO:-0400
TZNAME:EDT
DTSTART:20180311T070000
END:DAYLIGHT
BEGIN:STANDARD
TZOFFSETFROM:-0400
TZOFFSETTO:-0500
TZNAME:EST
DTSTART:20181104T060000
END:STANDARD
BEGIN:DAYLIGHT
TZOFFSETFROM:-0500
TZOFFSETTO:-0400
TZNAME:EDT
DTSTART:20190310T070000
END:DAYLIGHT
BEGIN:STANDARD
TZOFFSETFROM:-0400
TZOFFSETTO:-0500
TZNAME:EST
DTSTART:20191103T060000
END:STANDARD
END:VTIMEZONE
BEGIN:VEVENT
DTSTART;TZID=America/Detroit:20180224T090000
DTEND;TZID=America/Detroit:20180224T094500
DTSTAMP:20260421T210102
CREATED:20180128T165631Z
LAST-MODIFIED:20180128T165631Z
UID:1252-1519462800-1519465500@cupw-windsor.org
SUMMARY:February 2018 Steward's Meeting
DESCRIPTION:All Stewards are invited to attend the monthly meeting which occurs just before GMM.
URL:https://cupw-windsor.org/event/february-2018-stewards-meeting/
LOCATION:Local 630 Office\, 103-875 Foster Avenue\, Windsor\, Ontario\, N8X 4W3\, Canada
END:VEVENT
BEGIN:VEVENT
DTSTART;TZID=America/Detroit:20180210T100000
DTEND;TZID=America/Detroit:20180210T140000
DTSTAMP:20260421T210102
CREATED:20180128T205455Z
LAST-MODIFIED:20180209T230259Z
UID:1335-1518256800-1518271200@cupw-windsor.org
SUMMARY:Health & Safety Committee Brunch
DESCRIPTION:This event has been cancelled due to inclement weather and will be rescheduled.
URL:https://cupw-windsor.org/event/health-safety-committee-brunch/
LOCATION:Local 630 Office\, 103-875 Foster Avenue\, Windsor\, Ontario\, N8X 4W3\, Canada
END:VEVENT
BEGIN:VEVENT
DTSTART;TZID=America/Detroit:20180127T100000
DTEND;TZID=America/Detroit:20180127T120000
DTSTAMP:20260421T210102
CREATED:20180103T015631Z
LAST-MODIFIED:20180103T015631Z
UID:1179-1517047200-1517054400@cupw-windsor.org
SUMMARY:General Membership Meeting January 2018
DESCRIPTION:The January General Membership Meeting will be held at the Local 630 Union Hall on Saturday\, January 27\, 2018 @ 10 am.
URL:https://cupw-windsor.org/event/general-membership-meeting-january-2018/
LOCATION:Local 630 Office\, 103-875 Foster Avenue\, Windsor\, Ontario\, N8X 4W3\, Canada
END:VEVENT
BEGIN:VEVENT
DTSTART;TZID=America/Detroit:20171202T180000
DTEND;TZID=America/Detroit:20171202T200000
DTSTAMP:20260421T210102
CREATED:20171128T005825Z
LAST-MODIFIED:20171128T005825Z
UID:1162-1512237600-1512244800@cupw-windsor.org
SUMMARY:Windsor Santa Claus Parade
DESCRIPTION:Please join Local 630 in the Windsor Santa Claus Parade! This annual tradition is at the heart of the holiday season\, and the merchants of Olde Sandwich Towne all come out to welcome you and the parade to their community. Spectacular floats\, clowns\, bands\, horses and of course Santa himself. Visit the local restaurants for parade specials\, and enjoy this yearly spectacle. Parade begins at Rankin Ave and continues on Riverside Dr through Sandwich Towne to Brock St.
URL:https://cupw-windsor.org/event/windsor-santa-claus-parade/
LOCATION:Ontario
ATTACH;FMTTYPE=image/jpeg:https://cupw-windsor.org/wp-content/uploads/windsor-santa-parade-2017.jpg
END:VEVENT
BEGIN:VEVENT
DTSTART;TZID=America/Detroit:20171125T100000
DTEND;TZID=America/Detroit:20171125T120000
DTSTAMP:20260421T210102
CREATED:20171104T212322Z
LAST-MODIFIED:20171104T212932Z
UID:1121-1511604000-1511611200@cupw-windsor.org
SUMMARY:General Membership Meeting November 2017
DESCRIPTION:The November General Membership Meeting will be held at the Local 630 Union Hall on Saturday\, November 25\, 2017 @ 10 am. \nDownload the PDF flyer below: \nGMM SATURDAY\, NOVEMBER 25\, 2017
URL:https://cupw-windsor.org/event/general-membership-meeting-november-2017/
LOCATION:Local 630 Office\, 103-875 Foster Avenue\, Windsor\, Ontario\, N8X 4W3\, Canada
END:VEVENT
BEGIN:VEVENT
DTSTART;TZID=America/Detroit:20171124T180000
DTEND;TZID=America/Detroit:20171124T210000
DTSTAMP:20260421T210102
CREATED:20171119T223457Z
LAST-MODIFIED:20171119T223457Z
UID:1147-1511546400-1511557200@cupw-windsor.org
SUMMARY:Tecumseh Santa Claus Parade
DESCRIPTION:All Windsor-Essex Posties are invited to participate in the Tecumseh Santa Claus Parade! Staging starts at 4:30 Lacasse Park. You can park at the Tecumseh Post Office (11910 Tecumseh Road) and catch a shuttle to Lacasse Park. \nPlease wear headlamps\, quilted liner and or other CPC gear and red & white accessories to get into the Christmas spirit! The parade officially begins at 6:00 pm at the corner of Lacasse Blvd. and Clapp Street. It ends at Tecumseh Town Hall\, within walking distance of Tecumseh P.O. \nWe would love to have your support in the parade – hope to see you there!
URL:https://cupw-windsor.org/event/tecumseh-santa-claus-parade/
LOCATION:Ontario
ATTACH;FMTTYPE=image/jpeg:https://cupw-windsor.org/wp-content/uploads/christmas-in-tecumseh-banner.jpg
END:VEVENT
BEGIN:VEVENT
DTSTART;TZID=America/Detroit:20171117T150000
DTEND;TZID=America/Detroit:20171117T233000
DTSTAMP:20260421T210102
CREATED:20171112T002249Z
LAST-MODIFIED:20171112T002249Z
UID:1127-1510930800-1510961400@cupw-windsor.org
SUMMARY:Michelle Johnson's Retirement Party
DESCRIPTION:
URL:https://cupw-windsor.org/event/michelle-johnsons-retirement-party/
LOCATION:Hook & Ladder\, 3690 Seminole Street\, Windor\, Ontario\, N8Y 1Y4\, Canada
ATTACH;FMTTYPE=image/jpeg:https://cupw-windsor.org/wp-content/uploads/michelle-johnson-retirement.jpg
END:VEVENT
BEGIN:VEVENT
DTSTART;TZID=America/Detroit:20171104T100000
DTEND;TZID=America/Detroit:20171104T120000
DTSTAMP:20260421T210102
CREATED:20171002T122151Z
LAST-MODIFIED:20171002T122151Z
UID:1042-1509789600-1509796800@cupw-windsor.org
SUMMARY:GMM October 2017
DESCRIPTION:The October General Membership Meeting will be held at the Local 630 Union Hall on Saturday\, November 4\, 2017 @ 10 am. \nDownload the PDF flyer below: \nGMM SATURDAY\, NOVEMBER 4\, 2017
URL:https://cupw-windsor.org/event/gmm-october-2017/
LOCATION:Local 630 Office\, 103-875 Foster Avenue\, Windsor\, Ontario\, N8X 4W3\, Canada
END:VEVENT
BEGIN:VEVENT
DTSTART;TZID=America/Detroit:20171028T120000
DTEND;TZID=America/Detroit:20171028T140000
DTSTAMP:20260421T210102
CREATED:20171024T012154Z
LAST-MODIFIED:20171024T012314Z
UID:1101-1509192000-1509199200@cupw-windsor.org
SUMMARY:Halloween Party
DESCRIPTION:Join us for Local 630’s Halloween Party. There will be crafts\, candy\, games and pizza. Kids of all ages are invited!!
URL:https://cupw-windsor.org/event/halloween-party/
LOCATION:Royal Canadian Legion Branch 143\, 1570 Marentette Ave.\, Windsor\, Ontario\, N8X 4E3\, Canada
ATTACH;FMTTYPE=image/jpeg:https://cupw-windsor.org/wp-content/uploads/local-halloween-party-2017-small.jpg
END:VEVENT
BEGIN:VEVENT
DTSTART;VALUE=DATE:20171005
DTEND;VALUE=DATE:20171006
DTSTAMP:20260421T210102
CREATED:20170920T024653Z
LAST-MODIFIED:20170930T163236Z
UID:893-1507161600-1507247999@cupw-windsor.org
SUMMARY:Special Contract Demand Ratification Meetings
DESCRIPTION:These are special meetings to give direction to our negotiators in next year’s contract negotiations. \nURBAN MEMBERS\n7:30am\, 1:30pm and 6:30pm \nRSMC MEMBERS\n5:00pm \nMeetings are expected to last approximately 45 minutes. \nSPECIAL 2018 Contract demand ratification meeting\, THURSDAY October 5\, 2017
URL:https://cupw-windsor.org/event/special-contract-demand-ratification-meetings/
LOCATION:Unifor Local 200/444 Hall\, 1855 Turner Rd.\, Windsor\, Ontario\, N8W 3K2\, Canada
END:VEVENT
BEGIN:VEVENT
DTSTART;TZID=America/Detroit:20170930T100000
DTEND;TZID=America/Detroit:20170930T120000
DTSTAMP:20260421T210102
CREATED:20170703T131632Z
LAST-MODIFIED:20170929T145324Z
UID:576-1506765600-1506772800@cupw-windsor.org
SUMMARY:GMM September 2017
DESCRIPTION:General Membership Meeting (GMM)\nSaturday\, September 30\, 2017. 10:00am.\nPlease note the meeting location is at the Union office\, 103-875 Foster Avenue. \nAll CUPW Members are welcome.
URL:https://cupw-windsor.org/event/gmm-september-2017/
LOCATION:Local 630 Office\, 103-875 Foster Avenue\, Windsor\, Ontario\, N8X 4W3\, Canada
END:VEVENT
BEGIN:VEVENT
DTSTART;TZID=America/Detroit:20170929T100000
DTEND;TZID=America/Detroit:20170929T120000
DTSTAMP:20260421T210102
CREATED:20170916T154100Z
LAST-MODIFIED:20170916T170753Z
UID:826-1506679200-1506686400@cupw-windsor.org
SUMMARY:Concern for Canadian Pensions Demonstration
DESCRIPTION:Join the demonstration of concern for Canadian pensions. We need to build a pension system that serves all Canadians. No more Sears!
URL:https://cupw-windsor.org/event/concern-for-canadian-pensions-demonstration/
LOCATION:City Hall Square\, 400 City Hall Square East\, Windsor\, Ontario\, N9A 7K6\, Canada
END:VEVENT
BEGIN:VEVENT
DTSTART;TZID=America/Detroit:20170904T100000
DTEND;TZID=America/Detroit:20170904T170000
DTSTAMP:20260421T210102
CREATED:20170714T010002Z
LAST-MODIFIED:20170714T011539Z
UID:581-1504519200-1504544400@cupw-windsor.org
SUMMARY:Labour Day Parade 2017
DESCRIPTION:Please join us at this year’s Labour Day Parade! It is extremely important that Posties show up en mass especially since our Collective Agreement expires in January 2018. The Windsor and District Labour Council puts on this parade with the help of all the union affiliates under their umbrella\, of which we are a proud member. Please make plans to be there\, bring your kids\, grandkids and family members to this annual Fun Fest. Let the Local know in advance that you will be there so we can order your Canada 150 T-shirt.
URL:https://cupw-windsor.org/event/labour-day-parade-2017/
LOCATION:Unifor Local 200/444 Hall\, 1855 Turner Rd.\, Windsor\, Ontario\, N8W 3K2\, Canada
ATTACH;FMTTYPE=image/jpeg:https://cupw-windsor.org/wp-content/uploads/19884158_10158980971715015_7324412237505975728_n.jpg
END:VEVENT
BEGIN:VEVENT
DTSTART;VALUE=DATE:20170813
DTEND;VALUE=DATE:20170814
DTSTAMP:20260421T210102
CREATED:20170729T173748Z
LAST-MODIFIED:20170729T173748Z
UID:707-1502582400-1502668799@cupw-windsor.org
SUMMARY:Windsor-Essex Pride Fest Parade
DESCRIPTION:For the first time\, Local 630 will be marching in the Windsor-Essex Pride Fest Parade! This is a great opportunity to support Windsor’s LGBTQ community and make our commitment to equality visible. \nWe need a head count for the parade\, so if you’re planning to come please let us know ASAP. We will be getting some festive bandanas to wear\, at a cost of $5 each. \nCongregate at Food Basics\, 880 Goyeau between 9 and 10 am. Everyone is welcome! \nThe parade route will begin at the Food Basics at 888 Goyeau Street and Elliott Avenue and proceed to Ouellette Avenue and will proceed north on Ouellette Avenue towards Riverside Drive then crossing Riverside Drive down to Dieppe Gardens\, the turning right to the final destination of Riverfront Festival Plaza where the fun continues with our Pride Day activities\, featuring great food\, vendors and fabulous entertainment.
URL:https://cupw-windsor.org/event/windsor-essex-pride-fest-parade/
LOCATION:Ontario
ATTACH;FMTTYPE=image/jpeg:https://cupw-windsor.org/wp-content/uploads/we-pride-facebook-image.jpg
END:VEVENT
BEGIN:VEVENT
DTSTART;TZID=America/Detroit:20170624T130000
DTEND;TZID=America/Detroit:20170624T170000
DTSTAMP:20260421T210102
CREATED:20170603T135432Z
LAST-MODIFIED:20170603T135432Z
UID:424-1498309200-1498323600@cupw-windsor.org
SUMMARY:Local 630 Open House BBQ
DESCRIPTION:Join us for a barbeque and check out Local 630’s new office!
URL:https://cupw-windsor.org/event/local-630-open-house-bbq/
LOCATION:Local 630 Office\, 103-875 Foster Avenue\, Windsor\, Ontario\, N8X 4W3\, Canada
END:VEVENT
BEGIN:VEVENT
DTSTART;TZID=America/Detroit:20170624T093000
DTEND;TZID=America/Detroit:20170624T120000
DTSTAMP:20260421T210102
CREATED:20170603T134911Z
LAST-MODIFIED:20170703T131439Z
UID:420-1498296600-1498305600@cupw-windsor.org
SUMMARY:General Membership Meeting
DESCRIPTION:Please note the meeting location is at Unifor Local 200/444 Hall\, 1855 Turner Rd. \nAll CUPW Members are welcome.
URL:https://cupw-windsor.org/event/general-membership-meeting/
LOCATION:Unifor Local 200/444 Hall\, 1855 Turner Rd.\, Windsor\, Ontario\, N8W 3K2\, Canada
END:VEVENT
BEGIN:VEVENT
DTSTART;TZID=America/Detroit:20170513T120000
DTEND;TZID=America/Detroit:20170513T143000
DTSTAMP:20260421T210102
CREATED:20170506T013110Z
LAST-MODIFIED:20170506T224302Z
UID:395-1494676800-1494685800@cupw-windsor.org
SUMMARY:Customer Appreciation BBQ
DESCRIPTION:
URL:https://cupw-windsor.org/event/customer-appreciation-bbq/
LOCATION:Riverside Sportsmen’s Club\, 10835 Riverside Drive\, Windsor\, Ontario\, N8P 1A5\, Canada
ATTACH;FMTTYPE=image/gif:https://cupw-windsor.org/wp-content/uploads/may-13-event.gif
END:VEVENT
BEGIN:VEVENT
DTSTART;TZID=America/Detroit:20170225T093000
DTEND;TZID=America/Detroit:20170225T113000
DTSTAMP:20260421T210102
CREATED:20170218T170059Z
LAST-MODIFIED:20170218T170332Z
UID:207-1488015000-1488022200@cupw-windsor.org
SUMMARY:General Membership Meeting
DESCRIPTION:General Membership Meeting (GMM)\nSaturday\, February 25\, 2016. 9:30am.\nPlease note the meeting location is at Unifor Local 200/444 Hall\, 1855 Turner Rd. \nAll CUPW Members are welcome. Please download the PDF Notice for Agenda details and to post in your facility.
URL:https://cupw-windsor.org/event/general-membership-meeting-gmm/
LOCATION:Unifor Local 200/444 Hall\, 1855 Turner Rd.\, Windsor\, Ontario\, N8W 3K2\, Canada
END:VEVENT
END:VCALENDAR